BEGIN:VCALENDAR
VERSION:2.0
PRODID:-//PSPA - ECPv6.15.20//NONSGML v1.0//EN
CALSCALE:GREGORIAN
METHOD:PUBLISH
X-ORIGINAL-URL:https://www.pspassociation.org.uk
X-WR-CALDESC:Events for PSPA
REFRESH-INTERVAL;VALUE=DURATION:PT1H
X-Robots-Tag:noindex
X-PUBLISHED-TTL:PT1H
BEGIN:VTIMEZONE
TZID:Europe/London
BEGIN:DAYLIGHT
TZOFFSETFROM:+0000
TZOFFSETTO:+0100
TZNAME:BST
DTSTART:20230326T010000
END:DAYLIGHT
BEGIN:STANDARD
TZOFFSETFROM:+0100
TZOFFSETTO:+0000
TZNAME:GMT
DTSTART:20231029T010000
END:STANDARD
BEGIN:DAYLIGHT
TZOFFSETFROM:+0000
TZOFFSETTO:+0100
TZNAME:BST
DTSTART:20240331T010000
END:DAYLIGHT
BEGIN:STANDARD
TZOFFSETFROM:+0100
TZOFFSETTO:+0000
TZNAME:GMT
DTSTART:20241027T010000
END:STANDARD
BEGIN:DAYLIGHT
TZOFFSETFROM:+0000
TZOFFSETTO:+0100
TZNAME:BST
DTSTART:20250330T010000
END:DAYLIGHT
BEGIN:STANDARD
TZOFFSETFROM:+0100
TZOFFSETTO:+0000
TZNAME:GMT
DTSTART:20251026T010000
END:STANDARD
BEGIN:DAYLIGHT
TZOFFSETFROM:+0000
TZOFFSETTO:+0100
TZNAME:BST
DTSTART:20260329T010000
END:DAYLIGHT
BEGIN:STANDARD
TZOFFSETFROM:+0100
TZOFFSETTO:+0000
TZNAME:GMT
DTSTART:20261025T010000
END:STANDARD
END:VTIMEZONE
BEGIN:VEVENT
DTSTART;TZID=Europe/London:20251202T133000
DTEND;TZID=Europe/London:20251202T150000
DTSTAMP:20260424T211726
CREATED:20230309T101532Z
LAST-MODIFIED:20250627T114105Z
UID:10001024-1764682200-1764687600@www.pspassociation.org.uk
SUMMARY:Woking Support Group
DESCRIPTION:We would like to invite you on behalf of PSPA\, to a PSP & CBD friendship group meeting.\n\nCome for tea and cake\, and the opportunity to get together with other people in similar circumstances to you. It is a chance for us to meet each other\, to share helpful advice and provide support and friendship. We would love to see you there. \n\nWe would love ideas of things we can enjoy doing together as a group but most of all\, we simply want you to enjoy friendship and for you to know that you are not on your own. \n2025 \n\n01 July\nNo meeting August\n02 September\n07 October\n04 November\n02 December
URL:https://www.pspassociation.org.uk/events-list/woking-local-group-2/2025-12-02/
LOCATION:Woking\, The Generation Centre\, Denton Way\, Woking\, Surrey\, GU21 3LG\, United Kingdom
CATEGORIES:Local Group
ATTACH;FMTTYPE=image/jpeg:https://www.pspassociation.org.uk/wp-content/uploads/2019/08/tea-coffee-pic.jpg
ORGANIZER;CN="Trevor Deacon":MAILTO:volunteering@pspassociation.org.uk
GEO:51.319241;-0.59014
X-APPLE-STRUCTURED-LOCATION;VALUE=URI;X-ADDRESS=Woking The Generation Centre Denton Way Woking Surrey GU21 3LG United Kingdom;X-APPLE-RADIUS=500;X-TITLE=The Generation Centre\, Denton Way:geo:-0.59014,51.319241
END:VEVENT
BEGIN:VEVENT
DTSTART;TZID=Europe/London:20251104T133000
DTEND;TZID=Europe/London:20251104T150000
DTSTAMP:20260424T211726
CREATED:20230309T101532Z
LAST-MODIFIED:20250627T114105Z
UID:10001023-1762263000-1762268400@www.pspassociation.org.uk
SUMMARY:Woking Support Group
DESCRIPTION:We would like to invite you on behalf of PSPA\, to a PSP & CBD friendship group meeting.\n\nCome for tea and cake\, and the opportunity to get together with other people in similar circumstances to you. It is a chance for us to meet each other\, to share helpful advice and provide support and friendship. We would love to see you there. \n\nWe would love ideas of things we can enjoy doing together as a group but most of all\, we simply want you to enjoy friendship and for you to know that you are not on your own. \n2025 \n\n01 July\nNo meeting August\n02 September\n07 October\n04 November\n02 December
URL:https://www.pspassociation.org.uk/events-list/woking-local-group-2/2025-11-04/
LOCATION:Woking\, The Generation Centre\, Denton Way\, Woking\, Surrey\, GU21 3LG\, United Kingdom
CATEGORIES:Local Group
ATTACH;FMTTYPE=image/jpeg:https://www.pspassociation.org.uk/wp-content/uploads/2019/08/tea-coffee-pic.jpg
ORGANIZER;CN="Trevor Deacon":MAILTO:volunteering@pspassociation.org.uk
GEO:51.319241;-0.59014
X-APPLE-STRUCTURED-LOCATION;VALUE=URI;X-ADDRESS=Woking The Generation Centre Denton Way Woking Surrey GU21 3LG United Kingdom;X-APPLE-RADIUS=500;X-TITLE=The Generation Centre\, Denton Way:geo:-0.59014,51.319241
END:VEVENT
BEGIN:VEVENT
DTSTART;TZID=Europe/London:20251007T133000
DTEND;TZID=Europe/London:20251007T150000
DTSTAMP:20260424T211726
CREATED:20230309T101532Z
LAST-MODIFIED:20250627T114105Z
UID:10001022-1759843800-1759849200@www.pspassociation.org.uk
SUMMARY:Woking Support Group
DESCRIPTION:We would like to invite you on behalf of PSPA\, to a PSP & CBD friendship group meeting.\n\nCome for tea and cake\, and the opportunity to get together with other people in similar circumstances to you. It is a chance for us to meet each other\, to share helpful advice and provide support and friendship. We would love to see you there. \n\nWe would love ideas of things we can enjoy doing together as a group but most of all\, we simply want you to enjoy friendship and for you to know that you are not on your own. \n2025 \n\n01 July\nNo meeting August\n02 September\n07 October\n04 November\n02 December
URL:https://www.pspassociation.org.uk/events-list/woking-local-group-2/2025-10-07/
LOCATION:Woking\, The Generation Centre\, Denton Way\, Woking\, Surrey\, GU21 3LG\, United Kingdom
CATEGORIES:Local Group
ATTACH;FMTTYPE=image/jpeg:https://www.pspassociation.org.uk/wp-content/uploads/2019/08/tea-coffee-pic.jpg
ORGANIZER;CN="Trevor Deacon":MAILTO:volunteering@pspassociation.org.uk
GEO:51.319241;-0.59014
X-APPLE-STRUCTURED-LOCATION;VALUE=URI;X-ADDRESS=Woking The Generation Centre Denton Way Woking Surrey GU21 3LG United Kingdom;X-APPLE-RADIUS=500;X-TITLE=The Generation Centre\, Denton Way:geo:-0.59014,51.319241
END:VEVENT
BEGIN:VEVENT
DTSTART;TZID=Europe/London:20250902T133000
DTEND;TZID=Europe/London:20250902T150000
DTSTAMP:20260424T211726
CREATED:20230309T101532Z
LAST-MODIFIED:20250627T114105Z
UID:10001021-1756819800-1756825200@www.pspassociation.org.uk
SUMMARY:Woking Support Group
DESCRIPTION:We would like to invite you on behalf of PSPA\, to a PSP & CBD friendship group meeting.\n\nCome for tea and cake\, and the opportunity to get together with other people in similar circumstances to you. It is a chance for us to meet each other\, to share helpful advice and provide support and friendship. We would love to see you there. \n\nWe would love ideas of things we can enjoy doing together as a group but most of all\, we simply want you to enjoy friendship and for you to know that you are not on your own. \n2025 \n\n01 July\nNo meeting August\n02 September\n07 October\n04 November\n02 December
URL:https://www.pspassociation.org.uk/events-list/woking-local-group-2/2025-09-02/
LOCATION:Woking\, The Generation Centre\, Denton Way\, Woking\, Surrey\, GU21 3LG\, United Kingdom
CATEGORIES:Local Group
ATTACH;FMTTYPE=image/jpeg:https://www.pspassociation.org.uk/wp-content/uploads/2019/08/tea-coffee-pic.jpg
ORGANIZER;CN="Trevor Deacon":MAILTO:volunteering@pspassociation.org.uk
GEO:51.319241;-0.59014
X-APPLE-STRUCTURED-LOCATION;VALUE=URI;X-ADDRESS=Woking The Generation Centre Denton Way Woking Surrey GU21 3LG United Kingdom;X-APPLE-RADIUS=500;X-TITLE=The Generation Centre\, Denton Way:geo:-0.59014,51.319241
END:VEVENT
BEGIN:VEVENT
DTSTART;TZID=Europe/London:20250701T133000
DTEND;TZID=Europe/London:20250701T150000
DTSTAMP:20260424T211726
CREATED:20250627T113952Z
LAST-MODIFIED:20260127T165138Z
UID:10000818-1751376600-1751382000@www.pspassociation.org.uk
SUMMARY:Woking Support Group
DESCRIPTION:We would like to invite you on behalf of PSPA\, to a PSP & CBD friendship group meeting.\n\nCome for tea and cake\, and the opportunity to get together with other people in similar circumstances to you. It is a chance for us to meet each other\, to share helpful advice and provide support and friendship. We would love to see you there. \n\nWe would love ideas of things we can enjoy doing together as a group but most of all\, we simply want you to enjoy friendship and for you to know that you are not on your own. \n\nTue 3 Feb 26\nTue 3 Mar 26 – James Cusack\, PSPA’s CEO will be attending this meeting\nTue 7 Apr 26\nTue 5 May 26\nTue 2 Jun 26\nTue 7 Jul 26\nNo August meeting\nTue 1 Sep 26\nTue 6 Oct 26\nTue 3 Nov 26\nTue 1 Dec 26
URL:https://www.pspassociation.org.uk/events-list/woking-local-group-2-2/
LOCATION:Woking\, The Generation Centre\, Denton Way\, Woking\, Surrey\, GU21 3LG\, United Kingdom
CATEGORIES:Local Group
ATTACH;FMTTYPE=image/jpeg:https://www.pspassociation.org.uk/wp-content/uploads/2019/08/tea-coffee-pic.jpg
ORGANIZER;CN="Trevor Deacon":MAILTO:volunteering@pspassociation.org.uk
GEO:51.319241;-0.59014
X-APPLE-STRUCTURED-LOCATION;VALUE=URI;X-ADDRESS=Woking The Generation Centre Denton Way Woking Surrey GU21 3LG United Kingdom;X-APPLE-RADIUS=500;X-TITLE=The Generation Centre\, Denton Way:geo:-0.59014,51.319241
END:VEVENT
BEGIN:VEVENT
DTSTART;TZID=Europe/London:20250701T133000
DTEND;TZID=Europe/London:20250701T150000
DTSTAMP:20260424T211726
CREATED:20230309T101532Z
LAST-MODIFIED:20250627T114105Z
UID:10000822-1751376600-1751382000@www.pspassociation.org.uk
SUMMARY:Woking Support Group
DESCRIPTION:We would like to invite you on behalf of PSPA\, to a PSP & CBD friendship group meeting.\n\nCome for tea and cake\, and the opportunity to get together with other people in similar circumstances to you. It is a chance for us to meet each other\, to share helpful advice and provide support and friendship. We would love to see you there. \n\nWe would love ideas of things we can enjoy doing together as a group but most of all\, we simply want you to enjoy friendship and for you to know that you are not on your own. \n2025 \n\n01 July\nNo meeting August\n02 September\n07 October\n04 November\n02 December
URL:https://www.pspassociation.org.uk/events-list/woking-local-group-2/2025-07-01/
LOCATION:Woking\, The Generation Centre\, Denton Way\, Woking\, Surrey\, GU21 3LG\, United Kingdom
CATEGORIES:Local Group
ATTACH;FMTTYPE=image/jpeg:https://www.pspassociation.org.uk/wp-content/uploads/2019/08/tea-coffee-pic.jpg
ORGANIZER;CN="Trevor Deacon":MAILTO:volunteering@pspassociation.org.uk
GEO:51.319241;-0.59014
X-APPLE-STRUCTURED-LOCATION;VALUE=URI;X-ADDRESS=Woking The Generation Centre Denton Way Woking Surrey GU21 3LG United Kingdom;X-APPLE-RADIUS=500;X-TITLE=The Generation Centre\, Denton Way:geo:-0.59014,51.319241
END:VEVENT
BEGIN:VEVENT
DTSTART;TZID=Europe/London:20240716T110000
DTEND;TZID=Europe/London:20240716T120000
DTSTAMP:20260424T211726
CREATED:20230622T150233Z
LAST-MODIFIED:20231228T112804Z
UID:10000569-1721127600-1721131200@www.pspassociation.org.uk
SUMMARY:Woking Carers Support Group
DESCRIPTION:We would like to invite you to a carers coffee morning.\n\nCome for tea and cake\, and the opportunity to meet with other people in similar circumstances to you. It is a chance for us to share helpful advice and provide support and friendship. We would love to see you there. \nThis group is specifically for those caring for people with PSP & CBD. It gives carers the opportunity to get together with other carers and gain friendship and support. We usually meet on the third Monday of the month at 11.00am and nothing is planned\, so just come and go as you please. \nPeople with PSP & CBD are welcome to attend the Woking Local Group. Details can be found here \n2024 \n\n16 January\n20 February\n19 March\n16 April\n21 May\n18 June\n16 July
URL:https://www.pspassociation.org.uk/events-list/woking-carers-coffee-morning-2/2024-07-16/
LOCATION:Woking Carers\, The Cafe\, Woking & Sam Beare Hospice\, Goldsworth Park Centre\,\, Woking\, GU21 3LG\, United Kingdom
CATEGORIES:Local Group
ATTACH;FMTTYPE=image/jpeg:https://www.pspassociation.org.uk/wp-content/uploads/2019/05/coffee-2439999_960_720.jpg
ORGANIZER;CN="Trevor Deacon":MAILTO:volunteering@pspassociation.org.uk
GEO:51.3186585;-0.5899032
X-APPLE-STRUCTURED-LOCATION;VALUE=URI;X-ADDRESS=Woking Carers The Cafe Woking & Sam Beare Hospice Goldsworth Park Centre Woking GU21 3LG United Kingdom;X-APPLE-RADIUS=500;X-TITLE=The Cafe\, Woking & Sam Beare Hospice\, Goldsworth Park Centre\,:geo:-0.5899032,51.3186585
END:VEVENT
BEGIN:VEVENT
DTSTART;TZID=Europe/London:20240618T110000
DTEND;TZID=Europe/London:20240618T120000
DTSTAMP:20260424T211726
CREATED:20230622T150233Z
LAST-MODIFIED:20231228T112804Z
UID:10000568-1718708400-1718712000@www.pspassociation.org.uk
SUMMARY:Woking Carers Support Group
DESCRIPTION:We would like to invite you to a carers coffee morning.\n\nCome for tea and cake\, and the opportunity to meet with other people in similar circumstances to you. It is a chance for us to share helpful advice and provide support and friendship. We would love to see you there. \nThis group is specifically for those caring for people with PSP & CBD. It gives carers the opportunity to get together with other carers and gain friendship and support. We usually meet on the third Monday of the month at 11.00am and nothing is planned\, so just come and go as you please. \nPeople with PSP & CBD are welcome to attend the Woking Local Group. Details can be found here \n2024 \n\n16 January\n20 February\n19 March\n16 April\n21 May\n18 June\n16 July
URL:https://www.pspassociation.org.uk/events-list/woking-carers-coffee-morning-2/2024-06-18/
LOCATION:Woking Carers\, The Cafe\, Woking & Sam Beare Hospice\, Goldsworth Park Centre\,\, Woking\, GU21 3LG\, United Kingdom
CATEGORIES:Local Group
ATTACH;FMTTYPE=image/jpeg:https://www.pspassociation.org.uk/wp-content/uploads/2019/05/coffee-2439999_960_720.jpg
ORGANIZER;CN="Trevor Deacon":MAILTO:volunteering@pspassociation.org.uk
GEO:51.3186585;-0.5899032
X-APPLE-STRUCTURED-LOCATION;VALUE=URI;X-ADDRESS=Woking Carers The Cafe Woking & Sam Beare Hospice Goldsworth Park Centre Woking GU21 3LG United Kingdom;X-APPLE-RADIUS=500;X-TITLE=The Cafe\, Woking & Sam Beare Hospice\, Goldsworth Park Centre\,:geo:-0.5899032,51.3186585
END:VEVENT
BEGIN:VEVENT
DTSTART;TZID=Europe/London:20240521T110000
DTEND;TZID=Europe/London:20240521T120000
DTSTAMP:20260424T211726
CREATED:20230622T150233Z
LAST-MODIFIED:20231228T112804Z
UID:10000567-1716289200-1716292800@www.pspassociation.org.uk
SUMMARY:Woking Carers Support Group
DESCRIPTION:We would like to invite you to a carers coffee morning.\n\nCome for tea and cake\, and the opportunity to meet with other people in similar circumstances to you. It is a chance for us to share helpful advice and provide support and friendship. We would love to see you there. \nThis group is specifically for those caring for people with PSP & CBD. It gives carers the opportunity to get together with other carers and gain friendship and support. We usually meet on the third Monday of the month at 11.00am and nothing is planned\, so just come and go as you please. \nPeople with PSP & CBD are welcome to attend the Woking Local Group. Details can be found here \n2024 \n\n16 January\n20 February\n19 March\n16 April\n21 May\n18 June\n16 July
URL:https://www.pspassociation.org.uk/events-list/woking-carers-coffee-morning-2/2024-05-21/
LOCATION:Woking Carers\, The Cafe\, Woking & Sam Beare Hospice\, Goldsworth Park Centre\,\, Woking\, GU21 3LG\, United Kingdom
CATEGORIES:Local Group
ATTACH;FMTTYPE=image/jpeg:https://www.pspassociation.org.uk/wp-content/uploads/2019/05/coffee-2439999_960_720.jpg
ORGANIZER;CN="Trevor Deacon":MAILTO:volunteering@pspassociation.org.uk
GEO:51.3186585;-0.5899032
X-APPLE-STRUCTURED-LOCATION;VALUE=URI;X-ADDRESS=Woking Carers The Cafe Woking & Sam Beare Hospice Goldsworth Park Centre Woking GU21 3LG United Kingdom;X-APPLE-RADIUS=500;X-TITLE=The Cafe\, Woking & Sam Beare Hospice\, Goldsworth Park Centre\,:geo:-0.5899032,51.3186585
END:VEVENT
BEGIN:VEVENT
DTSTART;TZID=Europe/London:20240416T110000
DTEND;TZID=Europe/London:20240416T120000
DTSTAMP:20260424T211726
CREATED:20230622T150233Z
LAST-MODIFIED:20231228T112804Z
UID:10000566-1713265200-1713268800@www.pspassociation.org.uk
SUMMARY:Woking Carers Support Group
DESCRIPTION:We would like to invite you to a carers coffee morning.\n\nCome for tea and cake\, and the opportunity to meet with other people in similar circumstances to you. It is a chance for us to share helpful advice and provide support and friendship. We would love to see you there. \nThis group is specifically for those caring for people with PSP & CBD. It gives carers the opportunity to get together with other carers and gain friendship and support. We usually meet on the third Monday of the month at 11.00am and nothing is planned\, so just come and go as you please. \nPeople with PSP & CBD are welcome to attend the Woking Local Group. Details can be found here \n2024 \n\n16 January\n20 February\n19 March\n16 April\n21 May\n18 June\n16 July
URL:https://www.pspassociation.org.uk/events-list/woking-carers-coffee-morning-2/2024-04-16/
LOCATION:Woking Carers\, The Cafe\, Woking & Sam Beare Hospice\, Goldsworth Park Centre\,\, Woking\, GU21 3LG\, United Kingdom
CATEGORIES:Local Group
ATTACH;FMTTYPE=image/jpeg:https://www.pspassociation.org.uk/wp-content/uploads/2019/05/coffee-2439999_960_720.jpg
ORGANIZER;CN="Trevor Deacon":MAILTO:volunteering@pspassociation.org.uk
GEO:51.3186585;-0.5899032
X-APPLE-STRUCTURED-LOCATION;VALUE=URI;X-ADDRESS=Woking Carers The Cafe Woking & Sam Beare Hospice Goldsworth Park Centre Woking GU21 3LG United Kingdom;X-APPLE-RADIUS=500;X-TITLE=The Cafe\, Woking & Sam Beare Hospice\, Goldsworth Park Centre\,:geo:-0.5899032,51.3186585
END:VEVENT
BEGIN:VEVENT
DTSTART;TZID=Europe/London:20240319T110000
DTEND;TZID=Europe/London:20240319T120000
DTSTAMP:20260424T211726
CREATED:20230622T150233Z
LAST-MODIFIED:20231228T112804Z
UID:10000571-1710846000-1710849600@www.pspassociation.org.uk
SUMMARY:Woking Carers Support Group
DESCRIPTION:We would like to invite you to a carers coffee morning.\n\nCome for tea and cake\, and the opportunity to meet with other people in similar circumstances to you. It is a chance for us to share helpful advice and provide support and friendship. We would love to see you there. \nThis group is specifically for those caring for people with PSP & CBD. It gives carers the opportunity to get together with other carers and gain friendship and support. We usually meet on the third Monday of the month at 11.00am and nothing is planned\, so just come and go as you please. \nPeople with PSP & CBD are welcome to attend the Woking Local Group. Details can be found here \n2024 \n\n16 January\n20 February\n19 March\n16 April\n21 May\n18 June\n16 July
URL:https://www.pspassociation.org.uk/events-list/woking-carers-coffee-morning-2/2024-03-19/
LOCATION:Woking Carers\, The Cafe\, Woking & Sam Beare Hospice\, Goldsworth Park Centre\,\, Woking\, GU21 3LG\, United Kingdom
CATEGORIES:Local Group
ATTACH;FMTTYPE=image/jpeg:https://www.pspassociation.org.uk/wp-content/uploads/2019/05/coffee-2439999_960_720.jpg
ORGANIZER;CN="Trevor Deacon":MAILTO:volunteering@pspassociation.org.uk
GEO:51.3186585;-0.5899032
X-APPLE-STRUCTURED-LOCATION;VALUE=URI;X-ADDRESS=Woking Carers The Cafe Woking & Sam Beare Hospice Goldsworth Park Centre Woking GU21 3LG United Kingdom;X-APPLE-RADIUS=500;X-TITLE=The Cafe\, Woking & Sam Beare Hospice\, Goldsworth Park Centre\,:geo:-0.5899032,51.3186585
END:VEVENT
BEGIN:VEVENT
DTSTART;TZID=Europe/London:20240220T110000
DTEND;TZID=Europe/London:20240220T120000
DTSTAMP:20260424T211726
CREATED:20230622T150233Z
LAST-MODIFIED:20231228T112804Z
UID:10000564-1708426800-1708430400@www.pspassociation.org.uk
SUMMARY:Woking Carers Support Group
DESCRIPTION:We would like to invite you to a carers coffee morning.\n\nCome for tea and cake\, and the opportunity to meet with other people in similar circumstances to you. It is a chance for us to share helpful advice and provide support and friendship. We would love to see you there. \nThis group is specifically for those caring for people with PSP & CBD. It gives carers the opportunity to get together with other carers and gain friendship and support. We usually meet on the third Monday of the month at 11.00am and nothing is planned\, so just come and go as you please. \nPeople with PSP & CBD are welcome to attend the Woking Local Group. Details can be found here \n2024 \n\n16 January\n20 February\n19 March\n16 April\n21 May\n18 June\n16 July
URL:https://www.pspassociation.org.uk/events-list/woking-carers-coffee-morning-2/2024-02-20/
LOCATION:Woking Carers\, The Cafe\, Woking & Sam Beare Hospice\, Goldsworth Park Centre\,\, Woking\, GU21 3LG\, United Kingdom
CATEGORIES:Local Group
ATTACH;FMTTYPE=image/jpeg:https://www.pspassociation.org.uk/wp-content/uploads/2019/05/coffee-2439999_960_720.jpg
ORGANIZER;CN="Trevor Deacon":MAILTO:volunteering@pspassociation.org.uk
GEO:51.3186585;-0.5899032
X-APPLE-STRUCTURED-LOCATION;VALUE=URI;X-ADDRESS=Woking Carers The Cafe Woking & Sam Beare Hospice Goldsworth Park Centre Woking GU21 3LG United Kingdom;X-APPLE-RADIUS=500;X-TITLE=The Cafe\, Woking & Sam Beare Hospice\, Goldsworth Park Centre\,:geo:-0.5899032,51.3186585
END:VEVENT
BEGIN:VEVENT
DTSTART;TZID=Europe/London:20240212T110000
DTEND;TZID=Europe/London:20240212T120000
DTSTAMP:20260424T211726
CREATED:20230622T150233Z
LAST-MODIFIED:20231228T112804Z
UID:10000570-1707735600-1707739200@www.pspassociation.org.uk
SUMMARY:Woking Carers Support Group
DESCRIPTION:We would like to invite you to a carers coffee morning.\n\nCome for tea and cake\, and the opportunity to meet with other people in similar circumstances to you. It is a chance for us to share helpful advice and provide support and friendship. We would love to see you there. \nThis group is specifically for those caring for people with PSP & CBD. It gives carers the opportunity to get together with other carers and gain friendship and support. We usually meet on the third Monday of the month at 11.00am and nothing is planned\, so just come and go as you please. \nPeople with PSP & CBD are welcome to attend the Woking Local Group. Details can be found here \n2024 \n\n16 January\n20 February\n19 March\n16 April\n21 May\n18 June\n16 July
URL:https://www.pspassociation.org.uk/events-list/woking-carers-coffee-morning-2/2024-02-12/
LOCATION:Woking Carers\, The Cafe\, Woking & Sam Beare Hospice\, Goldsworth Park Centre\,\, Woking\, GU21 3LG\, United Kingdom
CATEGORIES:Local Group
ATTACH;FMTTYPE=image/jpeg:https://www.pspassociation.org.uk/wp-content/uploads/2019/05/coffee-2439999_960_720.jpg
ORGANIZER;CN="Trevor Deacon":MAILTO:volunteering@pspassociation.org.uk
GEO:51.3186585;-0.5899032
X-APPLE-STRUCTURED-LOCATION;VALUE=URI;X-ADDRESS=Woking Carers The Cafe Woking & Sam Beare Hospice Goldsworth Park Centre Woking GU21 3LG United Kingdom;X-APPLE-RADIUS=500;X-TITLE=The Cafe\, Woking & Sam Beare Hospice\, Goldsworth Park Centre\,:geo:-0.5899032,51.3186585
END:VEVENT
END:VCALENDAR